BEGIN:VCALENDAR
VERSION:2.0
PRODID:-//Farina Foundation - ECPv5.16.4//NONSGML v1.0//EN
CALSCALE:GREGORIAN
METHOD:PUBLISH
X-WR-CALNAME:Farina Foundation
X-ORIGINAL-URL:https://farinafoundation.org
X-WR-CALDESC:Events for Farina Foundation
REFRESH-INTERVAL;VALUE=DURATION:PT1H
X-Robots-Tag:noindex
X-PUBLISHED-TTL:PT1H
BEGIN:VTIMEZONE
TZID:America/Halifax
BEGIN:DAYLIGHT
TZOFFSETFROM:-0400
TZOFFSETTO:-0300
TZNAME:ADT
DTSTART:20220313T060000
END:DAYLIGHT
BEGIN:STANDARD
TZOFFSETFROM:-0300
TZOFFSETTO:-0400
TZNAME:AST
DTSTART:20221106T050000
END:STANDARD
END:VTIMEZONE
BEGIN:VEVENT
DTSTART;TZID=America/Halifax:20221023T153000
DTEND;TZID=America/Halifax:20221023T173000
DTSTAMP:20260420T013824
CREATED:20221022T160115Z
LAST-MODIFIED:20221022T160115Z
UID:4319-1666539000-1666546200@farinafoundation.org
SUMMARY:Music Along The Trail- Concert & Instrument Donation Drive
DESCRIPTION:A FREE community concert for all ages! Featuring high school musical groups from the Fox Chapel area. Organized by Nathan Moore for his Eagle Scout project. \nBring a new\, or gently used\, instrument to the concert to support the Farina Foundation’s mission of providing music access and education to underrepresented youth throughout the community. \nThe concert is outside at the amphitheater at the Allegheny River Trail Park\, located at 285 River Ave. in Aspinwall. Bring a chair or blanket\, get comfy\, and listen to some great music. In the event of rain the concert will be moved to the pavilion or welcome center. Light refreshments will be available for purchase.
URL:https://farinafoundation.org/event/music-along-the-trail-concert-instrument-donation-drive/
LOCATION:Allegeny River Trail Park\, 285 River Ave.\, Pittsburgh\, PA\, 15215\, United States
END:VEVENT
END:VCALENDAR